BEGIN:VCALENDAR
VERSION:2.0
PRODID:-//Sabre//Sabre VObject 4.5.8//EN
CALSCALE:GREGORIAN
BEGIN:VEVENT
UID:sabre-vobject-56a69d9f-e316-47ff-be58-5fe95553ca9c
DTSTAMP:20260426T042041Z
SUMMARY:Bamberg History of Beer & Breweries
DESCRIPTION:Discover this UNESCO World Heritage Site!\n
X-ALT-DESC:FMTTYPE=text/html:<!DOCTYPE HTML PUBLIC "-//W3C//DTD HTML 3.2//E
 N"><HTML><p>Discover this UNESCO World Heritage Site!</p>\n</HTML>
CREATED;TZID=Europe/Oslo:20260302T103120
URL;VALUE=URI:https://grafenwoehr.armymwr.com/calendar/event
DTSTART;TZID=Europe/Oslo:20260502T100000
DTEND;TZID=Europe/Oslo:20260502T110000
SEQUENCE:0
END:VEVENT
END:VCALENDAR
