BEGIN:VCALENDAR
VERSION:2.0
PRODID:-//Sabre//Sabre VObject 4.5.8//EN
CALSCALE:GREGORIAN
BEGIN:VEVENT
UID:sabre-vobject-3cf7a8b2-4a96-4c25-9a43-764abdad84b1
DTSTAMP:20260426T025259Z
SUMMARY:Mother's Day Fishing
DESCRIPTION:Reel in the fun this Mother&#39\;s Day!\n
X-ALT-DESC:FMTTYPE=text/html:<!DOCTYPE HTML PUBLIC "-//W3C//DTD HTML 3.2//E
 N"><HTML><p>Reel in the fun this Mother&#39\;s Day!</p>\n</HTML>
CREATED;TZID=Europe/Oslo:20260423T092907
URL;VALUE=URI:https://grafenwoehr.armymwr.com/calendar/event
DTSTART;TZID=Europe/Oslo:20260509T080000
DTEND;TZID=Europe/Oslo:20260509T120000
SEQUENCE:0
END:VEVENT
END:VCALENDAR
