BEGIN:VCALENDAR
VERSION:2.0
PRODID:-//Sabre//Sabre VObject 4.5.8//EN
CALSCALE:GREGORIAN
BEGIN:VEVENT
UID:sabre-vobject-a4613d4f-bda2-4d74-8c6d-899bef2565b3
DTSTAMP:20260426T025302Z
SUMMARY:Indoor Climbing 101
DESCRIPTION:Build your climbing foundation!\n
X-ALT-DESC:FMTTYPE=text/html:<!DOCTYPE HTML PUBLIC "-//W3C//DTD HTML 3.2//E
 N"><HTML><p>Build your climbing foundation!</p>\n</HTML>
CREATED;TZID=Europe/Oslo:20260303T113649
URL;VALUE=URI:https://grafenwoehr.armymwr.com/calendar/event
DTSTART;TZID=Europe/Oslo:20260407T180000
DTEND;TZID=Europe/Oslo:20260407T203000
SEQUENCE:0
END:VEVENT
BEGIN:VEVENT
UID:sabre-vobject-7d064ff6-5200-46f6-adfd-590c9231c8f4
DTSTAMP:20260426T025302Z
SUMMARY:Indoor Climbing 101
DESCRIPTION:Build your climbing foundation!\n
X-ALT-DESC:FMTTYPE=text/html:<!DOCTYPE HTML PUBLIC "-//W3C//DTD HTML 3.2//E
 N"><HTML><p>Build your climbing foundation!</p>\n</HTML>
CREATED;TZID=Europe/Oslo:20260303T113649
URL;VALUE=URI:https://grafenwoehr.armymwr.com/calendar/event
DTSTART;TZID=Europe/Oslo:20260505T180000
DTEND;TZID=Europe/Oslo:20260505T203000
SEQUENCE:1
END:VEVENT
BEGIN:VEVENT
UID:sabre-vobject-ab744cc1-f153-42bd-a039-7269e5208ef2
DTSTAMP:20260426T025302Z
SUMMARY:Indoor Climbing 101
DESCRIPTION:Build your climbing foundation!\n
X-ALT-DESC:FMTTYPE=text/html:<!DOCTYPE HTML PUBLIC "-//W3C//DTD HTML 3.2//E
 N"><HTML><p>Build your climbing foundation!</p>\n</HTML>
CREATED;TZID=Europe/Oslo:20260303T113649
URL;VALUE=URI:https://grafenwoehr.armymwr.com/calendar/event
DTSTART;TZID=Europe/Oslo:20260609T180000
DTEND;TZID=Europe/Oslo:20260609T203000
SEQUENCE:2
END:VEVENT
BEGIN:VEVENT
UID:sabre-vobject-18bbd1f4-eda9-43fd-9329-3d1c88efdb50
DTSTAMP:20260426T025302Z
SUMMARY:Indoor Climbing 101
DESCRIPTION:Build your climbing foundation!\n
X-ALT-DESC:FMTTYPE=text/html:<!DOCTYPE HTML PUBLIC "-//W3C//DTD HTML 3.2//E
 N"><HTML><p>Build your climbing foundation!</p>\n</HTML>
CREATED;TZID=Europe/Oslo:20260303T113649
URL;VALUE=URI:https://grafenwoehr.armymwr.com/calendar/event
DTSTART;TZID=Europe/Oslo:20260707T180000
DTEND;TZID=Europe/Oslo:20260707T203000
SEQUENCE:3
END:VEVENT
BEGIN:VEVENT
UID:sabre-vobject-c8c64b8f-7171-4e73-b0c3-0431e19afc99
DTSTAMP:20260426T025302Z
SUMMARY:Indoor Climbing 101
DESCRIPTION:Build your climbing foundation!\n
X-ALT-DESC:FMTTYPE=text/html:<!DOCTYPE HTML PUBLIC "-//W3C//DTD HTML 3.2//E
 N"><HTML><p>Build your climbing foundation!</p>\n</HTML>
CREATED;TZID=Europe/Oslo:20260303T113649
URL;VALUE=URI:https://grafenwoehr.armymwr.com/calendar/event
DTSTART;TZID=Europe/Oslo:20260804T180000
DTEND;TZID=Europe/Oslo:20260804T203000
SEQUENCE:4
END:VEVENT
BEGIN:VEVENT
UID:sabre-vobject-233943fc-2ee5-4553-9c4c-5f339ed0981f
DTSTAMP:20260426T025302Z
SUMMARY:Indoor Climbing 101
DESCRIPTION:Build your climbing foundation!\n
X-ALT-DESC:FMTTYPE=text/html:<!DOCTYPE HTML PUBLIC "-//W3C//DTD HTML 3.2//E
 N"><HTML><p>Build your climbing foundation!</p>\n</HTML>
CREATED;TZID=Europe/Oslo:20260303T113649
URL;VALUE=URI:https://grafenwoehr.armymwr.com/calendar/event
DTSTART;TZID=Europe/Oslo:20260908T180000
DTEND;TZID=Europe/Oslo:20260908T203000
SEQUENCE:5
END:VEVENT
END:VCALENDAR
