BEGIN:VCALENDAR
VERSION:2.0
PRODID:-//Sabre//Sabre VObject 4.5.8//EN
CALSCALE:GREGORIAN
BEGIN:VEVENT
UID:sabre-vobject-caa8dc63-6b4a-4903-a201-e16b15559acd
DTSTAMP:20260419T145413Z
SUMMARY:A Globetrotter's Guide to Germany
DESCRIPTION:Travel with confidence!\n
X-ALT-DESC:FMTTYPE=text/html:<!DOCTYPE HTML PUBLIC "-//W3C//DTD HTML 3.2//E
 N"><HTML><p>Travel with confidence!</p>\n</HTML>
CREATED;TZID=Europe/Oslo:20190220T105429
URL;VALUE=URI:https://grafenwoehr.armymwr.com/calendar/event
DTSTART;TZID=Europe/Oslo:20170629T160000
DTEND;TZID=Europe/Oslo:20170629T170000
SEQUENCE:0
END:VEVENT
BEGIN:VEVENT
UID:sabre-vobject-421f8306-a461-4aa3-8080-dfa6b7620d0d
DTSTAMP:20260419T145413Z
SUMMARY:A Globetrotter's Guide to Germany
DESCRIPTION:Travel with confidence!\n
X-ALT-DESC:FMTTYPE=text/html:<!DOCTYPE HTML PUBLIC "-//W3C//DTD HTML 3.2//E
 N"><HTML><p>Travel with confidence!</p>\n</HTML>
CREATED;TZID=Europe/Oslo:20190220T105429
URL;VALUE=URI:https://grafenwoehr.armymwr.com/calendar/event
DTSTART;TZID=Europe/Oslo:20170727T160000
DTEND;TZID=Europe/Oslo:20170727T170000
SEQUENCE:1
END:VEVENT
BEGIN:VEVENT
UID:sabre-vobject-3e8a741e-e2a4-4323-ad7f-f0c370a64137
DTSTAMP:20260419T145413Z
SUMMARY:A Globetrotter's Guide to Germany
DESCRIPTION:Travel with confidence!\n
X-ALT-DESC:FMTTYPE=text/html:<!DOCTYPE HTML PUBLIC "-//W3C//DTD HTML 3.2//E
 N"><HTML><p>Travel with confidence!</p>\n</HTML>
CREATED;TZID=Europe/Oslo:20190220T105429
URL;VALUE=URI:https://grafenwoehr.armymwr.com/calendar/event
DTSTART;TZID=Europe/Oslo:20170824T180000
DTEND;TZID=Europe/Oslo:20170824T190000
SEQUENCE:2
END:VEVENT
BEGIN:VEVENT
UID:sabre-vobject-42f0f5ef-d443-478c-a2bf-730953c2753c
DTSTAMP:20260419T145413Z
SUMMARY:A Globetrotter's Guide to Germany
DESCRIPTION:Travel with confidence!\n
X-ALT-DESC:FMTTYPE=text/html:<!DOCTYPE HTML PUBLIC "-//W3C//DTD HTML 3.2//E
 N"><HTML><p>Travel with confidence!</p>\n</HTML>
CREATED;TZID=Europe/Oslo:20190220T105429
URL;VALUE=URI:https://grafenwoehr.armymwr.com/calendar/event
DTSTART;TZID=Europe/Oslo:20171019T160000
DTEND;TZID=Europe/Oslo:20171019T170000
SEQUENCE:3
END:VEVENT
BEGIN:VEVENT
UID:sabre-vobject-ec7935a2-6e56-4524-b7b0-9410a9acc608
DTSTAMP:20260419T145413Z
SUMMARY:A Globetrotter's Guide to Germany
DESCRIPTION:Travel with confidence!\n
X-ALT-DESC:FMTTYPE=text/html:<!DOCTYPE HTML PUBLIC "-//W3C//DTD HTML 3.2//E
 N"><HTML><p>Travel with confidence!</p>\n</HTML>
CREATED;TZID=Europe/Oslo:20190220T105429
URL;VALUE=URI:https://grafenwoehr.armymwr.com/calendar/event
DTSTART;TZID=Europe/Oslo:20171116T160000
DTEND;TZID=Europe/Oslo:20171116T170000
SEQUENCE:4
END:VEVENT
BEGIN:VEVENT
UID:sabre-vobject-9d21c8f3-2508-4adf-85b3-3e87ad12cd2f
DTSTAMP:20260419T145413Z
SUMMARY:A Globetrotter's Guide to Germany
DESCRIPTION:Travel with confidence!\n
X-ALT-DESC:FMTTYPE=text/html:<!DOCTYPE HTML PUBLIC "-//W3C//DTD HTML 3.2//E
 N"><HTML><p>Travel with confidence!</p>\n</HTML>
CREATED;TZID=Europe/Oslo:20190220T105429
URL;VALUE=URI:https://grafenwoehr.armymwr.com/calendar/event
DTSTART;TZID=Europe/Oslo:20171221T160000
DTEND;TZID=Europe/Oslo:20171221T170000
SEQUENCE:5
END:VEVENT
BEGIN:VEVENT
UID:sabre-vobject-2cea9b5d-2214-4d10-a4ad-24d84e9c4de4
DTSTAMP:20260419T145413Z
SUMMARY:A Globetrotter's Guide to Germany
DESCRIPTION:Travel with confidence!\n
X-ALT-DESC:FMTTYPE=text/html:<!DOCTYPE HTML PUBLIC "-//W3C//DTD HTML 3.2//E
 N"><HTML><p>Travel with confidence!</p>\n</HTML>
CREATED;TZID=Europe/Oslo:20190220T105429
URL;VALUE=URI:https://grafenwoehr.armymwr.com/calendar/event
DTSTART;TZID=Europe/Oslo:20180125T160000
DTEND;TZID=Europe/Oslo:20180125T170000
SEQUENCE:6
END:VEVENT
BEGIN:VEVENT
UID:sabre-vobject-81a3ba80-8c05-477f-a56d-389eaac64d03
DTSTAMP:20260419T145413Z
SUMMARY:A Globetrotter's Guide to Germany
DESCRIPTION:Travel with confidence!\n
X-ALT-DESC:FMTTYPE=text/html:<!DOCTYPE HTML PUBLIC "-//W3C//DTD HTML 3.2//E
 N"><HTML><p>Travel with confidence!</p>\n</HTML>
CREATED;TZID=Europe/Oslo:20190220T105429
URL;VALUE=URI:https://grafenwoehr.armymwr.com/calendar/event
DTSTART;TZID=Europe/Oslo:20180222T160000
DTEND;TZID=Europe/Oslo:20180222T170000
SEQUENCE:7
END:VEVENT
BEGIN:VEVENT
UID:sabre-vobject-5704a7b3-d682-46c3-9736-fffeea186678
DTSTAMP:20260419T145413Z
SUMMARY:A Globetrotter's Guide to Germany
DESCRIPTION:Travel with confidence!\n
X-ALT-DESC:FMTTYPE=text/html:<!DOCTYPE HTML PUBLIC "-//W3C//DTD HTML 3.2//E
 N"><HTML><p>Travel with confidence!</p>\n</HTML>
CREATED;TZID=Europe/Oslo:20190220T105429
URL;VALUE=URI:https://grafenwoehr.armymwr.com/calendar/event
DTSTART;TZID=Europe/Oslo:20181121T170000
DTEND;TZID=Europe/Oslo:20181121T180000
SEQUENCE:8
END:VEVENT
BEGIN:VEVENT
UID:sabre-vobject-5a7512ec-bc23-49b0-b910-cc806f0bdda0
DTSTAMP:20260419T145413Z
SUMMARY:A Globetrotter's Guide to Germany
DESCRIPTION:Travel with confidence!\n
X-ALT-DESC:FMTTYPE=text/html:<!DOCTYPE HTML PUBLIC "-//W3C//DTD HTML 3.2//E
 N"><HTML><p>Travel with confidence!</p>\n</HTML>
CREATED;TZID=Europe/Oslo:20190220T105429
URL;VALUE=URI:https://grafenwoehr.armymwr.com/calendar/event
DTSTART;TZID=Europe/Oslo:20190219T170000
DTEND;TZID=Europe/Oslo:20190219T180000
SEQUENCE:9
END:VEVENT
BEGIN:VEVENT
UID:sabre-vobject-cdc0ac21-ab99-40c1-82c6-e5c14cbe60e3
DTSTAMP:20260419T145413Z
SUMMARY:A Globetrotter's Guide to Germany
DESCRIPTION:Travel with confidence!\n
X-ALT-DESC:FMTTYPE=text/html:<!DOCTYPE HTML PUBLIC "-//W3C//DTD HTML 3.2//E
 N"><HTML><p>Travel with confidence!</p>\n</HTML>
CREATED;TZID=Europe/Oslo:20190220T105429
URL;VALUE=URI:https://grafenwoehr.armymwr.com/calendar/event
DTSTART;TZID=Europe/Oslo:20190320T170000
DTEND;TZID=Europe/Oslo:20190320T180000
SEQUENCE:10
END:VEVENT
END:VCALENDAR
