BEGIN:VCALENDAR
VERSION:2.0
PRODID:-//Sabre//Sabre VObject 4.5.8//EN
CALSCALE:GREGORIAN
BEGIN:VEVENT
UID:sabre-vobject-d2ab05f0-a16b-4063-bbf9-1fd271ee7cde
DTSTAMP:20260421T121704Z
SUMMARY:Dungeons and Dragons
DESCRIPTION:Interested in a quest?\n
X-ALT-DESC:FMTTYPE=text/html:<!DOCTYPE HTML PUBLIC "-//W3C//DTD HTML 3.2//E
 N"><HTML><p>Interested in a quest?</p>\n</HTML>
CREATED;TZID=Europe/Oslo:20190419T162304
URL;VALUE=URI:https://grafenwoehr.armymwr.com/calendar/event
DTSTART;TZID=Europe/Oslo:20170719T190000
DTEND;TZID=Europe/Oslo:20170719T200000
SEQUENCE:0
END:VEVENT
BEGIN:VEVENT
UID:sabre-vobject-b7c72174-555a-4e62-a3f7-899425d59f0b
DTSTAMP:20260421T121704Z
SUMMARY:Dungeons and Dragons
DESCRIPTION:Interested in a quest?\n
X-ALT-DESC:FMTTYPE=text/html:<!DOCTYPE HTML PUBLIC "-//W3C//DTD HTML 3.2//E
 N"><HTML><p>Interested in a quest?</p>\n</HTML>
CREATED;TZID=Europe/Oslo:20190419T162304
URL;VALUE=URI:https://grafenwoehr.armymwr.com/calendar/event
DTSTART;TZID=Europe/Oslo:20190402T180000
DTEND;TZID=Europe/Oslo:20190402T220000
SEQUENCE:1
END:VEVENT
END:VCALENDAR
