BEGIN:VCALENDAR
VERSION:2.0
PRODID:-//Sabre//Sabre VObject 4.5.8//EN
CALSCALE:GREGORIAN
BEGIN:VEVENT
UID:sabre-vobject-b20afee9-75a4-4a2c-a8ad-3033413057bf
DTSTAMP:20260422T112333Z
SUMMARY:Baby Boot Camp
DESCRIPTION:Join us to obtain information on prenatal nutrition\, newborn c
 are\, hospital care in Germany\, breastfeeding and more.\n
X-ALT-DESC:FMTTYPE=text/html:<!DOCTYPE HTML PUBLIC "-//W3C//DTD HTML 3.2//E
 N"><HTML><p>Join us to obtain information on prenatal nutrition\, newborn 
 care\, hospital care in Germany\, breastfeeding and more.</p>\n</HTML>
CREATED;TZID=Europe/Oslo:20190220T120448
URL;VALUE=URI:https://grafenwoehr.armymwr.com/calendar/event
DTSTART;TZID=Europe/Oslo:20170421T090000
DTEND;TZID=Europe/Oslo:20170421T163000
SEQUENCE:0
END:VEVENT
BEGIN:VEVENT
UID:sabre-vobject-e829a647-4544-414d-bb83-af02d3c39e79
DTSTAMP:20260422T112333Z
SUMMARY:Baby Boot Camp
DESCRIPTION:Join us to obtain information on prenatal nutrition\, newborn c
 are\, hospital care in Germany\, breastfeeding and more.\n
X-ALT-DESC:FMTTYPE=text/html:<!DOCTYPE HTML PUBLIC "-//W3C//DTD HTML 3.2//E
 N"><HTML><p>Join us to obtain information on prenatal nutrition\, newborn 
 care\, hospital care in Germany\, breastfeeding and more.</p>\n</HTML>
CREATED;TZID=Europe/Oslo:20190220T120448
URL;VALUE=URI:https://grafenwoehr.armymwr.com/calendar/event
DTSTART;TZID=Europe/Oslo:20180413T090000
DTEND;TZID=Europe/Oslo:20180413T163000
SEQUENCE:1
END:VEVENT
BEGIN:VEVENT
UID:sabre-vobject-895616c3-62b0-474b-baad-fb11731c61f3
DTSTAMP:20260422T112333Z
SUMMARY:Baby Boot Camp
DESCRIPTION:Join us to obtain information on prenatal nutrition\, newborn c
 are\, hospital care in Germany\, breastfeeding and more.\n
X-ALT-DESC:FMTTYPE=text/html:<!DOCTYPE HTML PUBLIC "-//W3C//DTD HTML 3.2//E
 N"><HTML><p>Join us to obtain information on prenatal nutrition\, newborn 
 care\, hospital care in Germany\, breastfeeding and more.</p>\n</HTML>
CREATED;TZID=Europe/Oslo:20190220T120448
URL;VALUE=URI:https://grafenwoehr.armymwr.com/calendar/event
DTSTART;TZID=Europe/Oslo:20180518T090000
DTEND;TZID=Europe/Oslo:20180518T163000
SEQUENCE:2
END:VEVENT
BEGIN:VEVENT
UID:sabre-vobject-f7aa3ddc-2822-42b4-9cae-16b2ae762b94
DTSTAMP:20260422T112333Z
SUMMARY:Baby Boot Camp
DESCRIPTION:Join us to obtain information on prenatal nutrition\, newborn c
 are\, hospital care in Germany\, breastfeeding and more.\n
X-ALT-DESC:FMTTYPE=text/html:<!DOCTYPE HTML PUBLIC "-//W3C//DTD HTML 3.2//E
 N"><HTML><p>Join us to obtain information on prenatal nutrition\, newborn 
 care\, hospital care in Germany\, breastfeeding and more.</p>\n</HTML>
CREATED;TZID=Europe/Oslo:20190220T120448
URL;VALUE=URI:https://grafenwoehr.armymwr.com/calendar/event
DTSTART;TZID=Europe/Oslo:20180720T090000
DTEND;TZID=Europe/Oslo:20180720T163000
SEQUENCE:3
END:VEVENT
BEGIN:VEVENT
UID:sabre-vobject-048a748b-8a30-4e3e-b56b-be015b92a885
DTSTAMP:20260422T112333Z
SUMMARY:Baby Boot Camp
DESCRIPTION:Join us to obtain information on prenatal nutrition\, newborn c
 are\, hospital care in Germany\, breastfeeding and more.\n
X-ALT-DESC:FMTTYPE=text/html:<!DOCTYPE HTML PUBLIC "-//W3C//DTD HTML 3.2//E
 N"><HTML><p>Join us to obtain information on prenatal nutrition\, newborn 
 care\, hospital care in Germany\, breastfeeding and more.</p>\n</HTML>
CREATED;TZID=Europe/Oslo:20190220T120448
URL;VALUE=URI:https://grafenwoehr.armymwr.com/calendar/event
DTSTART;TZID=Europe/Oslo:20181109T090000
DTEND;TZID=Europe/Oslo:20181109T163000
SEQUENCE:4
END:VEVENT
BEGIN:VEVENT
UID:sabre-vobject-575b73e2-8574-4b2d-b536-78529f984e60
DTSTAMP:20260422T112333Z
SUMMARY:Baby Boot Camp
DESCRIPTION:Join us to obtain information on prenatal nutrition\, newborn c
 are\, hospital care in Germany\, breastfeeding and more.\n
X-ALT-DESC:FMTTYPE=text/html:<!DOCTYPE HTML PUBLIC "-//W3C//DTD HTML 3.2//E
 N"><HTML><p>Join us to obtain information on prenatal nutrition\, newborn 
 care\, hospital care in Germany\, breastfeeding and more.</p>\n</HTML>
CREATED;TZID=Europe/Oslo:20190220T120448
URL;VALUE=URI:https://grafenwoehr.armymwr.com/calendar/event
DTSTART;TZID=Europe/Oslo:20190308T090000
DTEND;TZID=Europe/Oslo:20190308T163000
SEQUENCE:5
END:VEVENT
END:VCALENDAR
