BEGIN:VCALENDAR
VERSION:2.0
PRODID:-//Sabre//Sabre VObject 4.5.8//EN
CALSCALE:GREGORIAN
BEGIN:VEVENT
UID:sabre-vobject-c9f86373-50a0-4b30-8832-46e0b622631c
DTSTAMP:20260420T025523Z
SUMMARY:Very Scary Library - Tower Barracks
DESCRIPTION:Play games\, make crafts and get candy!\n
X-ALT-DESC:FMTTYPE=text/html:<!DOCTYPE HTML PUBLIC "-//W3C//DTD HTML 3.2//E
 N"><HTML><p>Play games\, make crafts and get candy!</p>\n</HTML>
CREATED;TZID=Europe/Oslo:20191027T121459
URL;VALUE=URI:https://grafenwoehr.armymwr.com/calendar/event
DTSTART;TZID=Europe/Oslo:20171027T170000
DTEND;TZID=Europe/Oslo:20171027T180000
SEQUENCE:0
END:VEVENT
BEGIN:VEVENT
UID:sabre-vobject-a0eb9248-c038-4b99-b637-e735345fc86d
DTSTAMP:20260420T025523Z
SUMMARY:Very Scary Library - Tower Barracks
DESCRIPTION:Play games\, make crafts and get candy!\n
X-ALT-DESC:FMTTYPE=text/html:<!DOCTYPE HTML PUBLIC "-//W3C//DTD HTML 3.2//E
 N"><HTML><p>Play games\, make crafts and get candy!</p>\n</HTML>
CREATED;TZID=Europe/Oslo:20191027T121459
URL;VALUE=URI:https://grafenwoehr.armymwr.com/calendar/event
DTSTART;TZID=Europe/Oslo:20181029T170000
DTEND;TZID=Europe/Oslo:20181029T180000
SEQUENCE:1
END:VEVENT
BEGIN:VEVENT
UID:sabre-vobject-2de56807-becc-45da-9559-92c0a15f8182
DTSTAMP:20260420T025523Z
SUMMARY:Very Scary Library - Tower Barracks
DESCRIPTION:Play games\, make crafts and get candy!\n
X-ALT-DESC:FMTTYPE=text/html:<!DOCTYPE HTML PUBLIC "-//W3C//DTD HTML 3.2//E
 N"><HTML><p>Play games\, make crafts and get candy!</p>\n</HTML>
CREATED;TZID=Europe/Oslo:20191027T121459
URL;VALUE=URI:https://grafenwoehr.armymwr.com/calendar/event
DTSTART;TZID=Europe/Oslo:20191029T170000
DTEND;TZID=Europe/Oslo:20191029T180000
SEQUENCE:2
END:VEVENT
END:VCALENDAR
