BEGIN:VCALENDAR
VERSION:2.0
PRODID:-//Sabre//Sabre VObject 4.5.8//EN
CALSCALE:GREGORIAN
BEGIN:VEVENT
UID:sabre-vobject-0cd2b31b-ff77-468b-9f5e-f44b96e48236
DTSTAMP:20260425T170734Z
SUMMARY:CANCELED Chasing Powder in Innsbruck
DESCRIPTION:Innsbruck offers numerous ski resorts and we&#39\;ll follow the
  weather to the best snow.\n
X-ALT-DESC:FMTTYPE=text/html:<!DOCTYPE HTML PUBLIC "-//W3C//DTD HTML 3.2//E
 N"><HTML><p>Innsbruck offers numerous ski resorts and we&#39\;ll follow th
 e weather to the best snow.</p>\n</HTML>
CREATED;TZID=Europe/Oslo:20210122T152625
URL;VALUE=URI:https://grafenwoehr.armymwr.com/calendar/event
DTSTART;TZID=Europe/Oslo:20200320T000000
DTEND;TZID=Europe/Oslo:20200323T235959
SEQUENCE:0
END:VEVENT
BEGIN:VEVENT
UID:sabre-vobject-4f055494-5029-4d50-9023-023de750afb2
DTSTAMP:20260425T170734Z
SUMMARY:CANCELED Chasing Powder in Innsbruck
DESCRIPTION:Innsbruck offers numerous ski resorts and we&#39\;ll follow the
  weather to the best snow.\n
X-ALT-DESC:FMTTYPE=text/html:<!DOCTYPE HTML PUBLIC "-//W3C//DTD HTML 3.2//E
 N"><HTML><p>Innsbruck offers numerous ski resorts and we&#39\;ll follow th
 e weather to the best snow.</p>\n</HTML>
CREATED;TZID=Europe/Oslo:20210122T152625
URL;VALUE=URI:https://grafenwoehr.armymwr.com/calendar/event
DTSTART;TZID=Europe/Oslo:20210212T000000
DTEND;TZID=Europe/Oslo:20210215T235959
SEQUENCE:1
END:VEVENT
END:VCALENDAR
