BEGIN:VCALENDAR
VERSION:2.0
PRODID:-//Sabre//Sabre VObject 4.5.8//EN
CALSCALE:GREGORIAN
BEGIN:VEVENT
UID:sabre-vobject-ffea5c02-c5c9-47fd-9c0e-69badf6bce8a
DTSTAMP:20260424T204458Z
SUMMARY:Rothenburg Christmas Market
DESCRIPTION:Celebrate Christmas Medieval style!\n
X-ALT-DESC:FMTTYPE=text/html:<!DOCTYPE HTML PUBLIC "-//W3C//DTD HTML 3.2//E
 N"><HTML><p>Celebrate Christmas Medieval style!</p>\n</HTML>
CREATED;TZID=Europe/Oslo:20190930T221315
URL;VALUE=URI:https://grafenwoehr.armymwr.com/calendar/event
DTSTART;TZID=Europe/Oslo:20191222T000000
DTEND;TZID=Europe/Oslo:20191222T235959
SEQUENCE:0
END:VEVENT
END:VCALENDAR
