BEGIN:VCALENDAR
VERSION:2.0
PRODID:-//Sabre//Sabre VObject 4.5.8//EN
CALSCALE:GREGORIAN
BEGIN:VEVENT
UID:sabre-vobject-e07a4679-2256-47fa-8b7a-ee07d161419b
DTSTAMP:20260420T071106Z
SUMMARY:Christmas Market Trip: Rothenburg o.d. Tauber
DESCRIPTION:🔔 Join our day trips to enchanting Christmas markets! 🎄
 ✨&nbsp\;\n
X-ALT-DESC:FMTTYPE=text/html:<!DOCTYPE HTML PUBLIC "-//W3C//DTD HTML 3.2//E
 N"><HTML><p>🔔 Join our day trips to enchanting Christmas markets! 🎄
 ✨&nbsp\;</p>\n</HTML>
CREATED;TZID=Europe/Oslo:20241031T155646
URL;VALUE=URI:https://grafenwoehr.armymwr.com/calendar/event
DTSTART;TZID=Europe/Oslo:20241130T000000
DTEND;TZID=Europe/Oslo:20241130T235959
SEQUENCE:0
END:VEVENT
END:VCALENDAR
