BEGIN:VCALENDAR
VERSION:2.0
PRODID:-//Sabre//Sabre VObject 4.5.8//EN
CALSCALE:GREGORIAN
BEGIN:VEVENT
UID:sabre-vobject-eb138193-a14f-4082-b6f3-0fcaacaf7fac
DTSTAMP:20260421T220148Z
SUMMARY:IMCOM-Europe Flag Football Championship
DESCRIPTION:IMCOM-Europe will hold it&#39\;s Championship Tournament at Tow
 er Barracks!\n
X-ALT-DESC:FMTTYPE=text/html:<!DOCTYPE HTML PUBLIC "-//W3C//DTD HTML 3.2//E
 N"><HTML><p>IMCOM-Europe will hold it&#39\;s Championship Tournament at To
 wer Barracks!</p>\n</HTML>
CREATED;TZID=Europe/Oslo:20241007T084842
URL;VALUE=URI:https://grafenwoehr.armymwr.com/calendar/event
DTSTART;TZID=Europe/Oslo:20241018T103000
DTEND;TZID=Europe/Oslo:20241018T140000
SEQUENCE:0
END:VEVENT
END:VCALENDAR
