BEGIN:VCALENDAR
VERSION:2.0
PRODID:-//Sabre//Sabre VObject 4.5.8//EN
CALSCALE:GREGORIAN
BEGIN:VEVENT
UID:sabre-vobject-025caa3d-3659-497e-86bb-88095bd04c3d
DTSTAMP:20260420T155022Z
SUMMARY:Fall Craft
DESCRIPTION:Get crafty this fall at the Library!&nbsp\;\n
X-ALT-DESC:FMTTYPE=text/html:<!DOCTYPE HTML PUBLIC "-//W3C//DTD HTML 3.2//E
 N"><HTML><p>Get crafty this fall at the Library!&nbsp\;</p>\n</HTML>
CREATED;TZID=Europe/Oslo:20241106T105124
URL;VALUE=URI:https://grafenwoehr.armymwr.com/calendar/event
DTSTART;TZID=Europe/Oslo:20241120T140000
DTEND;TZID=Europe/Oslo:20241120T160000
SEQUENCE:0
END:VEVENT
BEGIN:VEVENT
UID:sabre-vobject-55b6051b-fa32-45a8-9033-f24d667ae6c6
DTSTAMP:20260420T155022Z
SUMMARY:Fall Craft
DESCRIPTION:Get crafty this fall at the Library!&nbsp\;\n
X-ALT-DESC:FMTTYPE=text/html:<!DOCTYPE HTML PUBLIC "-//W3C//DTD HTML 3.2//E
 N"><HTML><p>Get crafty this fall at the Library!&nbsp\;</p>\n</HTML>
CREATED;TZID=Europe/Oslo:20241106T105124
URL;VALUE=URI:https://grafenwoehr.armymwr.com/calendar/event
DTSTART;TZID=Europe/Oslo:20241121T140000
DTEND;TZID=Europe/Oslo:20241121T160000
SEQUENCE:1
END:VEVENT
END:VCALENDAR
