BEGIN:VCALENDAR
VERSION:2.0
PRODID:-//Sabre//Sabre VObject 4.5.8//EN
CALSCALE:GREGORIAN
BEGIN:VEVENT
UID:sabre-vobject-f0e5cfa8-5172-4e09-8db3-0eeaf6ea0cd0
DTSTAMP:20260423T221120Z
SUMMARY:Overnight Trip to Garmisch
DESCRIPTION:Join us for a weekend resort getaway to the Edelweiss Resort!\n
X-ALT-DESC:FMTTYPE=text/html:<!DOCTYPE HTML PUBLIC "-//W3C//DTD HTML 3.2//E
 N"><HTML><p>Join us for a weekend resort getaway to the Edelweiss Resort!<
 /p>\n</HTML>
CREATED;TZID=Europe/Oslo:20241211T114158
URL;VALUE=URI:https://grafenwoehr.armymwr.com/calendar/event
DTSTART;TZID=Europe/Oslo:20250201T040000
DTEND;TZID=Europe/Oslo:20250202T220000
SEQUENCE:0
END:VEVENT
BEGIN:VEVENT
UID:sabre-vobject-bf2183de-d0a3-487b-9902-83ea21f5c80f
DTSTAMP:20260423T221120Z
SUMMARY:Overnight Trip to Garmisch
DESCRIPTION:Join us for a weekend resort getaway to the Edelweiss Resort!\n
X-ALT-DESC:FMTTYPE=text/html:<!DOCTYPE HTML PUBLIC "-//W3C//DTD HTML 3.2//E
 N"><HTML><p>Join us for a weekend resort getaway to the Edelweiss Resort!<
 /p>\n</HTML>
CREATED;TZID=Europe/Oslo:20241211T114158
URL;VALUE=URI:https://grafenwoehr.armymwr.com/calendar/event
DTSTART;TZID=Europe/Oslo:20250301T040000
DTEND;TZID=Europe/Oslo:20250302T220000
SEQUENCE:1
END:VEVENT
END:VCALENDAR
